BEGIN:VCALENDAR
VERSION:2.0
PRODID:-//OKシードプロジェクト - ECPv6.15.20//NONSGML v1.0//EN
CALSCALE:GREGORIAN
METHOD:PUBLISH
X-ORIGINAL-URL:https://v3.okseed.jp
X-WR-CALDESC:OKシードプロジェクト のイベント
REFRESH-INTERVAL;VALUE=DURATION:PT1H
X-Robots-Tag:noindex
X-PUBLISHED-TTL:PT1H
BEGIN:VTIMEZONE
TZID:Asia/Tokyo
BEGIN:STANDARD
TZOFFSETFROM:+0900
TZOFFSETTO:+0900
TZNAME:JST
DTSTART:20240101T000000
END:STANDARD
END:VTIMEZONE
BEGIN:VEVENT
DTSTART;TZID=Asia/Tokyo:20250617T150000
DTEND;TZID=Asia/Tokyo:20250617T170000
DTSTAMP:20260424T042621
CREATED:20250525T004909Z
LAST-MODIFIED:20250602T071224Z
UID:6295-1750172400-1750179600@v3.okseed.jp
SUMMARY:「あきたこまちR」の表示と「有機JAS」の問題 院内集会
DESCRIPTION:秋田県では2025年産米の田植えが終わり、そのほとんどが従来品種の「あきたこまち」から新品種「あきたこまちＲ」に変わりました。しかし、「従来品種の『あきたこまち』を作り続けたい・食べ続けたい」、「遺伝子が改変されている新品種の『あきたこまちＲ』は食べたくない」という声があがり、従来の「あきたこまち」の生産を続ける農家の方たちもいます。 \n「あきたこまちＲ」という品種の祖先は、品種開発（品種改良）の過程で放射線・重イオンビームを稲（イネ）の種子（コメ）に１回浴びせて（照射して）遺伝子に損傷を与えて突然変異を誘発させ、それを利用して新品種を育成する技術（放射線育種）を使って、コメ中のカドミウム濃度が低減する特異な性質をもつようにさせた「コシヒカリ環1号」です。「あきたこまちＲ」はその特性を受け継いでおり、遺伝子が改変された品種のお米です。 \n9月初めにはスーパー等の店頭に並ぶことになりますが、一般消費者が目にする表示は「あきたこまち」となるので、消費者にとっては「中身の品種がわからない」、「選べない」表示になります。さらに農林水産省は、こうしたお米に「有機JASマーク」を付けて「有機米」として販売して「問題ありません」という見解を出しています。 \n院内集会では、これらの表示や「有機JAS」の問題について、消費者庁、農林水産省との意見交換会を行います。\nぜひ、会場までお出かけください。なお、オンライン（ZOOM）でも参加できます。\n\n＝＝＝＝＝＝＝＝＝＝＝＝＝＝＝＝＝＝\n日時：2025年6月17日（火）　15:00〜17:00\n場所：衆議院第１議員会館 第5会議室／オンライン併用\n参加費：無料（※要申し込み）\n申し込みフォーム：https://forms.gle/eUpvVzsr6W2jMphDA\n主催：2025年「あきたこまちR」問題全国ネットワーク\n＝＝＝＝＝＝＝＝＝＝＝＝＝＝＝＝＝＝\n\n《プログラム》 （時間は目安です）\n15：00〜開会　　　　　\n　　　　趣旨説明：久保田裕子\n　　　　問題提起：印鑰智哉、原英二、本城昇ほか\n消費者庁　　　景品表示法関係　「誤認のおそれ」の表示について\n　　　　農林水産省　　「有機JAS」認証可の問題について\n16：00～全国ネットワークの会議　　　　　　　\n17：00　閉会　　 \n主催：2025年「あきたこまちR」問題全国ネットワーク\n連絡先：OKシードプロジェクト事務局\nメール　komachi@okseed.jp\n重イオンビーム放射線育種問題：https://v3.okseed.jp/ionbeam\nご支援：https://save.okseed.jp/donation?src=komachi
URL:https://v3.okseed.jp/event/6295
LOCATION:衆議院第１議員会館\, 千代田区\, 永田町一丁目7番1号\, 東京都\, Japan
CATEGORIES:OKシードプロジェクト
ATTACH;FMTTYPE=image/png:https://v3.okseed.jp/wp-content/uploads/2025/05/250617院内集会.png
END:VEVENT
END:VCALENDAR